BEGIN:VCALENDAR
VERSION:2.0
PRODID:-//https://crab.it///NONSGML kigkonsult.se iCalcreator 2.10.15//
METHOD:PUBLISH
BEGIN:VEVENT
UID:20260422T224826CEST-3653ChhCpK@https://crab.it/
DTSTAMP:20260422T204826Z
DESCRIPTION: \n\n\n\nQuando\n \ndalle\nalle\nDove\n\n\n\n\nVenerdì\n10/10/2
 025\n08:30\n13:30\nSede CRAB di via Torino 54\, Biella\n\n\nGiovedì\n16/10
 /2025\n09:00\n12:00\nAzienda Partner in Vigliano Biellese\n\n\n\n \nScheda
 : Addetto alla gestione delle emergenze\, prevenzione incendi e lotta anti
 ncendio (rischio medio)\nCosto:  €150\,00 + IVA a partecipante\nTermine is
 crizione: Martedì 07/10/2025\nCome fare ad iscriversi: scaricare il contra
 tto e la manleva in basso ed inoltrarli alla mail formazione@crab.it\, le 
 iscrizioni verranno prese in carico dalla Segreteria in ordine di ricezion
 e del contratto stesso ed il corso verrà attivato al raggiungimento del nu
 mero minimo di partecipanti.\nPer ulteriori informazioni contattare la Seg
 reteria Didattica al numero 015 84 80 531 (532 o 533).\nGrazie. https://cr
 ab.it/servizi/formazione/calendario-corsi-per-categoria/evento/145-vvf-m-a
 ddetti-antincendio-livello-2-base
DTSTART:20251010T083000Z
DTEND:20251010T133000Z
LOCATION:CRAB\, sede di Biella e Azienda partner ()
SUMMARY:VVF M - ADDETTI ANTINCENDIO LIVELLO 2 - BASE
URL:https://crab.it/servizi/formazione/calendario-corsi-per-categoria/event
 o/145-vvf-m-addetti-antincendio-livello-2-base
END:VEVENT
END:VCALENDAR
