BEGIN:VCALENDAR
VERSION:2.0
PRODID:-//https://crab.it///NONSGML kigkonsult.se iCalcreator 2.10.15//
METHOD:PUBLISH
BEGIN:VEVENT
UID:20260422T224139CEST-0746bCE25J@https://crab.it/
DTSTAMP:20260422T204139Z
DESCRIPTION: \n\n\n\nQuando\n \ndalle\nalle\nDove\n\n\n\n\n Lunedì\n27/10/2
 025\n14:00\n16:00\nSede CRAB di via Torino 54\, Biella\n\n\n\n \nScheda: A
 ggiornamento per addetti antincendio rischio basso\nCosto:  €60\,00 + IVA 
 a partecipante\nTermine iscrizione: Venerdì 24/10/2025\nCome fare ad iscri
 versi: scaricare il contratto in basso ed inoltrarlo alla mail formazione@
 crab.it\, le iscrizioni verranno prese in carico dalla Segreteria in ordin
 e di ricezione del contratto stesso ed il corso verrà attivato al raggiung
 imento del numero minimo di partecipanti.\nPer ulteriori informazioni cont
 attare la Segreteria Didattica al numero 015 84 80 531 (532 o 533).\nGrazi
 e. https://crab.it/servizi/formazione/calendario-corsi-per-categoria/event
 o/147-a-vvf-b-addetti-antincendio-livello-1-aggiornamento
DTSTART:20251027T140000Z
DTEND:20251027T160000Z
LOCATION:CRAB\, sede di Biella (Biella\, via Torino 54)
SUMMARY:A VVF B - ADDETTI ANTINCENDIO LIVELLO  1- AGGIORNAMENTO
URL:https://crab.it/servizi/formazione/calendario-corsi-per-categoria/event
 o/147-a-vvf-b-addetti-antincendio-livello-1-aggiornamento
END:VEVENT
END:VCALENDAR
