BEGIN:VCALENDAR
VERSION:2.0
PRODID:-//https://crab.it///NONSGML kigkonsult.se iCalcreator 2.10.15//
METHOD:PUBLISH
BEGIN:VEVENT
UID:20260422T224235CEST-7224jzPi7X@https://crab.it/
DTSTAMP:20260422T204235Z
DESCRIPTION: \n\n\n\nQuando\n \ndalle\nalle\nDove\n\n\n\n\n Martedì\n10/03/
 2026\n14:00\n16:00\nSede CRAB di via Torino 54\, Biella\n\n\n\n \nScheda: 
 Aggiornamento per addetti antincendio rischio basso\nCosto:  €60\,00 + IVA
  a partecipante\nTermine iscrizione: Giovedì 05/03/2026\nCome fare ad iscr
 iversi: scaricare il contratto in basso ed inoltrarlo alla mail formazione
 @crab.it\, le iscrizioni verranno prese in carico dalla Segreteria in ordi
 ne di ricezione del contratto stesso ed il corso verrà attivato al raggiun
 gimento del numero minimo di partecipanti.\nPer ulteriori informazioni con
 tattare la Segreteria Didattica al numero 015 84 80 531 (532 o 533).\nGraz
 ie. https://crab.it/servizi/formazione/calendario-corsi-per-categoria/even
 to/225-a-vvf-b-addetti-antincendio-livello-1-aggiornamento
DTSTART:20260310T140000Z
DTEND:20260310T160000Z
LOCATION:CRAB\, sede di Biella (Biella\, via Torino 54)
SUMMARY:A VVF B - ADDETTI ANTINCENDIO LIVELLO  1- AGGIORNAMENTO
URL:https://crab.it/servizi/formazione/calendario-corsi-per-categoria/event
 o/225-a-vvf-b-addetti-antincendio-livello-1-aggiornamento
END:VEVENT
END:VCALENDAR
