BEGIN:VCALENDAR
VERSION:2.0
PRODID:-//https://crab.it///NONSGML kigkonsult.se iCalcreator 2.10.15//
METHOD:PUBLISH
BEGIN:VEVENT
UID:20260422T224959CEST-4612H1H54C@https://crab.it/
DTSTAMP:20260422T204959Z
DESCRIPTION:	 \n\n\n\nQuando\n \ndalle\nalle\nDove\n\n\n\n\nGiovedì\n28/05/
 2026\n10:30\n12:30\nSede CRAB di via Torino 54\, Biella\n\n\nGiovedì\n 28/
 05/2026 \n14:00\n17:00\nAzienda Partner in Vigliano Biellese\n\n\n\n Costo
 : €80\,00 + IVA a partecipante\nTermine iscrizione: Lunedì 25/05/2026\nCom
 e fare ad iscriversi: scaricare il contratto e la manleva in basso ed inol
 trarli alla mail formazione@crab.it\, le iscrizioni verranno prese in cari
 co dalla Segreteria in ordine di ricezione del contratto stesso ed il cors
 o verrà attivato al raggiungimento del numero minimo di partecipanti.\nPer
  ulteriori informazioni contattare la Segreteria Didattica al numero 015 8
 4 80 531 (532 o 533).\nGrazie. https://crab.it/servizi/formazione/calendar
 io-corsi-per-categoria/evento/270-a-vvf-m-addetti-antincendio-livello-2-ag
 giornamento
DTSTART:20260528T103000Z
DTEND:20260528T170000Z
LOCATION:CRAB\, sede di Biella e Azienda partner ()
SUMMARY:A VVF M - ADDETTI ANTINCENDIO LIVELLO 2 - AGGIORNAMENTO
URL:https://crab.it/servizi/formazione/calendario-corsi-per-categoria/event
 o/270-a-vvf-m-addetti-antincendio-livello-2-aggiornamento
END:VEVENT
END:VCALENDAR
