BEGIN:VCALENDAR
VERSION:2.0
PRODID:-//https://crab.it///NONSGML kigkonsult.se iCalcreator 2.10.15//
METHOD:PUBLISH
BEGIN:VEVENT
UID:20260422T191741CEST-3966tXOJ3L@https://crab.it/
DTSTAMP:20260422T171741Z
DESCRIPTION: \n\n\n\nQuando\n \ndalle\nalle\nDove\n\n\n\n\nLunedì\n26/05/20
 25\n14:00\n18:00\nSede CRAB di via Torino 54\, Biella\n\n\n\n \nScheda: Ad
 detto alla gestione delle emergenze\, prevenzione incendi e lotta antincen
 dio (rischio basso)\nCosto:  €80\,00 + IVA a partecipante\nTermine iscrizi
 one: Mercoledì 21/05/2025\nCome fare ad iscriversi: scaricare il contratto
  in basso ed inoltrarlo alla mail formazione@crab.it\, le iscrizioni verra
 nno prese in carico dalla Segreteria in ordine di ricezione del contratto 
 stesso ed il corso verrà attivato al raggiungimento del numero minimo di p
 artecipanti.\nPer ulteriori informazioni contattare la Segreteria Didattic
 a al numero 015 84 80 531 (532 o 533).\nGrazie. https://crab.it/servizi/fo
 rmazione/calendario-corsi-per-categoria/evento/68-vvf-b-addetti-antincendi
 o-livello-1-base
DTSTART:20250526T140000Z
DTEND:20250526T180000Z
LOCATION:CRAB\, sede di Biella (Biella\, via Torino 54)
SUMMARY:VVF B - ADDETTI ANTINCENDIO LIVELLO 1 - BASE
URL:https://crab.it/servizi/formazione/calendario-corsi-per-categoria/event
 o/68-vvf-b-addetti-antincendio-livello-1-base
END:VEVENT
END:VCALENDAR
