BEGIN:VCALENDAR
VERSION:2.0
PRODID:-//https://crab.it///NONSGML kigkonsult.se iCalcreator 2.10.15//
METHOD:PUBLISH
BEGIN:VEVENT
UID:20260420T152911CEST-5376MnxDXV@https://crab.it/
DTSTAMP:20260420T132911Z
DESCRIPTION: \n\n\n\nQuando\n \ndalle\nalle\nDove\n\n\n\n\n   Lunedì\n27/10
 /2025\n09:00\n13:00\nSede CRAB di via Torino 54\, Biella\n\n\n\n \nScheda:
  Corso di formazione per operatori non sanitari BLSD\nCosto:  €60\,00 + IV
 A a partecipante\nTermine iscrizione: Lunedì 13/10/2025\nCome fare ad iscr
 iversi: scaricare il contratto in basso ed inoltrarlo alla mail formazione
 @crab.it\, le iscrizioni verranno prese in carico dalla Segreteria in ordi
 ne di ricezione del contratto stesso ed il corso verrà attivato al raggiun
 gimento del numero minimo di partecipanti.\nPer ulteriori informazioni con
 tattare la Segreteria Didattica al numero 015 84 80 531 (532 o 533).\nGraz
 ie. https://crab.it/servizi/formazione/formazionecalendariocorsi/evento/15
 5-blsd-corso-per-operatori-non-sanitari-blsd-base
DTSTART:20251027T090000Z
DTEND:20251027T130000Z
LOCATION:CRAB\, sede di Biella (Biella\, via Torino 54)
SUMMARY:BLSD - CORSO PER OPERATORI NON SANITARI BLSD - BASE
URL:https://crab.it/servizi/formazione/formazionecalendariocorsi/evento/155
 -blsd-corso-per-operatori-non-sanitari-blsd-base
END:VEVENT
END:VCALENDAR
