BEGIN:VCALENDAR
VERSION:2.0
PRODID:-//https://crab.it///NONSGML kigkonsult.se iCalcreator 2.10.15//
METHOD:PUBLISH
BEGIN:VEVENT
UID:20260420T152942CEST-3462uzKvgS@https://crab.it/
DTSTAMP:20260420T132942Z
DESCRIPTION: \n\n\n\nQuando\n \ndalle\nalle\nDove\n\n\n\n\nLunedì\n03/11/20
 25\n14:00\n18:00\nSede CRAB di via Torino 54\, Biella\n\n\nVenerdì\n10/11/
 2025\n14:00\n18:00\nAzienda Partner in Valdengo\n\n\n\n Scheda: CORSO LAVO
 RI IN QUOTA\nCosto: €120\,00 + IVA a partecipante\nTermine iscrizione: Mar
 tedì 29/10/2025\nCome fare ad iscriversi: scaricare il contratto e la manl
 eva in basso ed inoltrarli alla mail formazione@crab.it\, le iscrizioni ve
 rranno prese in carico dalla Segreteria in ordine di ricezione del contrat
 to stesso ed il corso verrà attivato al raggiungimento del numero minimo d
 i partecipanti.\nPer ulteriori informazioni contattare la Segreteria Didat
 tica al numero 015 84 80 531 (532 o 533).\nGrazie. https://crab.it/servizi
 /formazione/formazionecalendariocorsi/evento/176-spec-plus-formazione-spec
 ifica-lavori-in-quota-base
DTSTART:20251103T140000Z
DTEND:20251103T180000Z
LOCATION:CRAB\, sede di Biella e Azienda partner ()
SUMMARY:SPEC PLUS - FORMAZIONE SPECIFICA - LAVORI IN QUOTA - BASE
URL:https://crab.it/servizi/formazione/formazionecalendariocorsi/evento/176
 -spec-plus-formazione-specifica-lavori-in-quota-base
END:VEVENT
END:VCALENDAR
