BEGIN:VCALENDAR
VERSION:2.0
PRODID:-//https://crab.it///NONSGML kigkonsult.se iCalcreator 2.10.15//
METHOD:PUBLISH
BEGIN:VEVENT
UID:20260420T153721CEST-1775crp93a@https://crab.it/
DTSTAMP:20260420T133721Z
DESCRIPTION: \n\n\n\nQuando\n \ndalle\nalle\nDove\n\n\n\n\n Lunedì\n26/01/2
 026\n09:00\n12:00\nSede CRAB di via Torino 54\, Biella\n\n\n\n \nCosto: € 
 50\,00 + IVA a partecipante\nTermine iscrizione: Giovedì 09/01/2026\nCome 
 fare ad iscriversi: scaricare il contratto in basso ed inoltrarlo alla mai
 l formazione@crab.it\, le iscrizioni verranno prese in carico dalla Segret
 eria in ordine di ricezione del contratto stesso ed il corso verrà attivat
 o al raggiungimento del numero minimo di partecipanti.\nPer ulteriori info
 rmazioni contattare la Segreteria Didattica al numero 015 84 80 531 (532 o
  533).\nGrazie. https://crab.it/servizi/formazione/formazionecalendariocor
 si/evento/197-a-blsd-corso-per-operatori-non-sanitari-blsd-aggiornamento
DTSTART:20250126T090000Z
DTEND:20250126T120000Z
LOCATION:CRAB\, sede di Biella (Biella\, via Torino 54)
SUMMARY:A BLSD - CORSO PER OPERATORI NON SANITARI BLSD - AGGIORNAMENTO
URL:https://crab.it/servizi/formazione/formazionecalendariocorsi/evento/197
 -a-blsd-corso-per-operatori-non-sanitari-blsd-aggiornamento
END:VEVENT
END:VCALENDAR
