BEGIN:VCALENDAR
VERSION:2.0
PRODID:-//https://crab.it///NONSGML kigkonsult.se iCalcreator 2.10.15//
METHOD:PUBLISH
BEGIN:VEVENT
UID:20260422T110159CEST-1076FbLDHf@https://crab.it/
DTSTAMP:20260422T090159Z
DESCRIPTION: \n\n\n\nQuando\n \ndalle\nalle\nDove\n\n\n\n\n Lunedì\n23/02/2
 026\n09:00\n12:00\nSede CRAB di via Torino 54\, Biella\n\n\n\n \nCosto: € 
 50\,00 + IVA a partecipante\nTermine iscrizione: Lunedì 09/02/2026\nCome f
 are ad iscriversi: scaricare il contratto in basso ed inoltrarlo alla mail
  formazione@crab.it\, le iscrizioni verranno prese in carico dalla Segrete
 ria in ordine di ricezione del contratto stesso ed il corso verrà attivato
  al raggiungimento del numero minimo di partecipanti.\nPer ulteriori infor
 mazioni contattare la Segreteria Didattica al numero 015 84 80 531 (532 o 
 533).\nGrazie. https://crab.it/servizi/formazione/formazionecalendariocors
 i/evento/217-a-blsd-corso-per-operatori-non-sanitari-blsd-aggiornamento
DTSTART:20260223T090000Z
DTEND:20260223T120000Z
LOCATION:CRAB\, sede di Biella (Biella\, via Torino 54)
SUMMARY:A BLSD - CORSO PER OPERATORI NON SANITARI BLSD - AGGIORNAMENTO
URL:https://crab.it/servizi/formazione/formazionecalendariocorsi/evento/217
 -a-blsd-corso-per-operatori-non-sanitari-blsd-aggiornamento
END:VEVENT
END:VCALENDAR
