BEGIN:VCALENDAR
VERSION:2.0
PRODID:-//https://crab.it///NONSGML kigkonsult.se iCalcreator 2.10.15//
METHOD:PUBLISH
BEGIN:VEVENT
UID:20260422T122640CEST-3397HOSldf@https://crab.it/
DTSTAMP:20260422T102640Z
DESCRIPTION: \n\n\n\nQuando\n \ndalle\nalle\nDove\n\n\n\n\nMartedì\n17/03/2
 026\n14:00\n18:00\nSede CRAB di via Torino 54\, Biella\n\n\n\n \nScheda: A
 ggiornamento per addetti alla conduzione di carrelli elevatori\nCosto:  €8
 0\,00 + IVA a partecipante\nTermine iscrizione: Giovedì 12/03/2026\nCome f
 are ad iscriversi: scaricare il contratto in basso ed inoltrarlo alla mail
  formazione@crab.it\, le iscrizioni verranno prese in carico dalla Segrete
 ria in ordine di ricezione del contratto stesso ed il corso verrà attivato
  al raggiungimento del numero minimo di partecipanti.\nPer ulteriori infor
 mazioni contattare la Segreteria Didattica al numero 015 84 80 531 (532 o 
 533).\nGrazie. https://crab.it/servizi/formazione/formazionecalendariocors
 i/evento/231-a-carr-addetti-alla-conduzione-di-carrelli-elevatori-semovent
 i-con-conducente-a-bordo-aggiornamento-in-aula
DTSTART:20260317T140000Z
DTEND:20260317T180000Z
LOCATION:CRAB\, sede di Biella (Biella\, via Torino 54)
SUMMARY:A CARR - ADDETTI ALLA CONDUZIONE DI CARRELLI ELEVATORI SEMOVENTI CO
 N CONDUCENTE A BORDO - AGGIORNAMENTO IN AULA
URL:https://crab.it/servizi/formazione/formazionecalendariocorsi/evento/231
 -a-carr-addetti-alla-conduzione-di-carrelli-elevatori-semoventi-con-conduc
 ente-a-bordo-aggiornamento-in-aula
END:VEVENT
END:VCALENDAR
