BEGIN:VCALENDAR
VERSION:2.0
PRODID:-//https://crab.it///NONSGML kigkonsult.se iCalcreator 2.10.15//
METHOD:PUBLISH
BEGIN:VEVENT
UID:20260422T124025CEST-0683NacBWK@https://crab.it/
DTSTAMP:20260422T104025Z
DESCRIPTION: \n\n\n\nQuando\n \ndalle\nalle\nDove\n\n\n\n\nLunedì\n16/03/20
 26\n09:00\n13:00\nSede CRAB di via Torino 54\, Biella\n\n\nGiovedì\n19/03/
 2026\n09:00\n13:00\nSede CRAB di via Torino 54\, Biella\n\n\nMercoledì\n25
 /03/2026\n09:00\n13:00\nAzienda Partner in Vigliano Biellese\n\n\n\n \nSch
 eda: Addetto alla conduzione di carrelli elevatori\nCosto:  €200\,00 + IVA
  a partecipante\nTermine iscrizione: Lunedì 11/03/2026\nCome fare ad iscri
 versi: scaricare il contratto e la manleva in basso ed inoltrarli alla mai
 l formazione@crab.it\, le iscrizioni verranno prese in carico dalla Segret
 eria in ordine di ricezione del contratto stesso ed il corso verrà attivat
 o al raggiungimento del numero minimo di partecipanti.\nPer ulteriori info
 rmazioni contattare la Segreteria Didattica al numero 015 84 80 531 (532 o
  533).\nGrazie.\n  https://crab.it/servizi/formazione/formazionecalendario
 corsi/evento/232-carr-addetti-alla-conduzione-di-carrelli-elevatori-semove
 nti-con-conducente-a-bordo-base
DTSTART:20260316T090000Z
DTEND:20260316T130000Z
LOCATION:CRAB\, sede di Biella e Azienda partner ()
SUMMARY:CARR - ADDETTI ALLA CONDUZIONE DI CARRELLI ELEVATORI SEMOVENTI CON 
 CONDUCENTE A BORDO - BASE
URL:https://crab.it/servizi/formazione/formazionecalendariocorsi/evento/232
 -carr-addetti-alla-conduzione-di-carrelli-elevatori-semoventi-con-conducen
 te-a-bordo-base
END:VEVENT
END:VCALENDAR
