BEGIN:VCALENDAR
VERSION:2.0
PRODID:-//https://crab.it///NONSGML kigkonsult.se iCalcreator 2.10.15//
METHOD:PUBLISH
BEGIN:VEVENT
UID:20260422T123152CEST-276833vd3g@https://crab.it/
DTSTAMP:20260422T103152Z
DESCRIPTION: \n\n\n\nQuando\n \ndalle\nalle\nDove\n\n\n\n\nVenerdì\n13/03/2
 026\n09:00\n13:00\nSede CRAB di via Torino 54\, Biella\n\n\nVenerdì\n 13/0
 3/2026 \n14:00\n16:00\nSede CRAB di via Torino 54\, Biella\n\n\n\nCosto:  
 €80\,00 + IVA a partecipante\nTermine iscrizione: Martedì 10/03/2026\nCome
  fare ad iscriversi: scaricare il contratto in basso ed inoltrarlo alla ma
 il formazione@crab.it\, le iscrizioni verranno prese in carico dalla Segre
 teria in ordine di ricezione del contratto stesso ed il corso verrà attiva
 to al raggiungimento del numero minimo di partecipanti.\nPer ulteriori inf
 ormazioni contattare la Segreteria Didattica al numero 015 84 80 531 (532 
 o 533).\nGrazie. https://crab.it/servizi/formazione/formazionecalendarioco
 rsi/evento/237-a-prep-formazione-preposti-aggiornamento
DTSTART:20260313T090000Z
DTEND:20260313T160000Z
LOCATION:CRAB\, sede di Biella (Biella\, via Torino 54)
SUMMARY:A PREP - FORMAZIONE PREPOSTI - AGGIORNAMENTO
URL:https://crab.it/servizi/formazione/formazionecalendariocorsi/evento/237
 -a-prep-formazione-preposti-aggiornamento
END:VEVENT
END:VCALENDAR
