BEGIN:VCALENDAR
VERSION:2.0
PRODID:-//https://crab.it///NONSGML kigkonsult.se iCalcreator 2.10.15//
METHOD:PUBLISH
BEGIN:VEVENT
UID:20260420T153228CEST-4669emMKv9@https://crab.it/
DTSTAMP:20260420T133228Z
DESCRIPTION: \n\n\n\nQuando\n \ndalle\nalle\nDove\n\n\n\n\n   Lunedì\n\n25/
 05/2026\n\n09:00\n13:00\nSede CRAB di via Torino 54\, Biella\n\n\n\n \nSch
 eda: Corso di formazione per operatori non sanitari BLSD\nCosto:  €60\,00 
 + IVA a partecipante\nTermine iscrizione: Lunedì 11/05/2026\nCome fare ad 
 iscriversi: scaricare il contratto in basso ed inoltrarlo alla mail formaz
 ione@crab.it\, le iscrizioni verranno prese in carico dalla Segreteria in 
 ordine di ricezione del contratto stesso ed il corso verrà attivato al rag
 giungimento del numero minimo di partecipanti.\nPer ulteriori informazioni
  contattare la Segreteria Didattica al numero 015 84 80 531 (532 o 533).\n
 Grazie. https://crab.it/servizi/formazione/formazionecalendariocorsi/event
 o/280-blsd-corso-per-operatori-non-sanitari-blsd-base
DTSTART:20260525T090000Z
DTEND:20260525T130000Z
LOCATION:CRAB\, sede di Biella (Biella\, via Torino 54)
SUMMARY:BLSD - CORSO PER OPERATORI NON SANITARI BLSD - BASE
URL:https://crab.it/servizi/formazione/formazionecalendariocorsi/evento/280
 -blsd-corso-per-operatori-non-sanitari-blsd-base
END:VEVENT
END:VCALENDAR
