BEGIN:VCALENDAR
VERSION:2.0
PRODID:-//https://crab.it///NONSGML kigkonsult.se iCalcreator 2.10.15//
METHOD:PUBLISH
BEGIN:VEVENT
UID:20260420T153147CEST-6848GHiIEu@https://crab.it/
DTSTAMP:20260420T133147Z
DESCRIPTION: \n\n\n\nQuando\n \ndalle\nalle\nDove\n\n\n\n\nLunedì\n18/05/20
 26\n08:30\n12:30\nAzienda Partner in Valdengo\n\n\nGiovedì\n18/05/2026\n13
 :30\n17:30\nAzienda Partner in Valdengo\n\n\n\n Scheda: CORSO LAVORI IN QU
 OTA\nCosto: €120\,00 + IVA a partecipante\nTermine iscrizione: Lunedì 11/0
 5/2026\nCome fare ad iscriversi: scaricare il contratto e la manleva in ba
 sso ed inoltrarli alla mail formazione@crab.it\, le iscrizioni verranno pr
 ese in carico dalla Segreteria in ordine di ricezione del contratto stesso
  ed il corso verrà attivato al raggiungimento del numero minimo di parteci
 panti.\nPer ulteriori informazioni contattare la Segreteria Didattica al n
 umero 015 84 80 531 (532 o 533).\nGrazie. https://crab.it/servizi/formazio
 ne/formazionecalendariocorsi/evento/281-spec-plus-formazione-specifica-lav
 ori-in-quota-base
DTSTART:20260518T083000Z
DTEND:20260518T180000Z
LOCATION:Azienda partner (Vigliano B.se\, via Libertà 50)
SUMMARY:SPEC PLUS - FORMAZIONE SPECIFICA - LAVORI IN QUOTA - BASE
URL:https://crab.it/servizi/formazione/formazionecalendariocorsi/evento/281
 -spec-plus-formazione-specifica-lavori-in-quota-base
END:VEVENT
END:VCALENDAR
